BEGIN:VCALENDAR
VERSION:2.0
PRODID:-//Far North Queensland Golf Association - ECPv5.3.2.1//NONSGML v1.0//EN
CALSCALE:GREGORIAN
METHOD:PUBLISH
X-WR-CALNAME:Far North Queensland Golf Association
X-ORIGINAL-URL:https://www.fnqgolf.com.au
X-WR-CALDESC:Events for Far North Queensland Golf Association
BEGIN:VTIMEZONE
TZID:Australia/Brisbane
BEGIN:STANDARD
TZOFFSETFROM:+1000
TZOFFSETTO:+1000
TZNAME:AEST
DTSTART:20210101T000000
END:STANDARD
END:VTIMEZONE
BEGIN:VEVENT
DTSTART;TZID=Australia/Brisbane:20210312T070000
DTEND;TZID=Australia/Brisbane:20210314T170000
DTSTAMP:20210228T004850
CREATED:20210129T031418Z
LAST-MODIFIED:20210209T015827Z
UID:850-1615532400-1615741200@www.fnqgolf.com.au
SUMMARY:Mt Garnet Annual Open Championship
DESCRIPTION:Entries open 1st February 2021\nEmail nominations to – nasa61@optusnet.com.au  Phone – 0419 758 990 \n \n 
URL:https://www.fnqgolf.com.au/event/mt-garnet-annual-open-championship/
LOCATION:Mt Garnet Golf Club\, Kennedy Hwy\, Mount Garnet\, QLD 4872\, 4872
CATEGORIES:Open Event
ATTACH;FMTTYPE=image/png:https://www.fnqgolf.com.au/wp-content/uploads/2020/01/Mt-Garnet-Logo.png
END:VEVENT
BEGIN:VEVENT
DTSTART;TZID=Australia/Brisbane:20210320T070000
DTEND;TZID=Australia/Brisbane:20210321T170000
DTSTAMP:20210228T004850
CREATED:20210129T032753Z
LAST-MODIFIED:20210221T210416Z
UID:856-1616223600-1616346000@www.fnqgolf.com.au
SUMMARY:MITSUBISHI MAREEBA CLASSIC
DESCRIPTION:Nomination fee: $50.00 for 36 holes or $30.00 for a single day. \n\n\n\nEmail: manager@mareebagolfclub.com.au or call 4092 1528 \n\n\n\nMitsubishi-Classic-2021-Nomination-FormDownload
URL:https://www.fnqgolf.com.au/event/mitsubishi-mareeba-classic/
LOCATION:Mareeba Golf Club
CATEGORIES:Classic Event
ATTACH;FMTTYPE=image/png:https://www.fnqgolf.com.au/wp-content/uploads/2020/01/Mareeba.png
END:VEVENT
BEGIN:VEVENT
DTSTART;TZID=Australia/Brisbane:20210417T170000
DTEND;TZID=Australia/Brisbane:20210419T030000
DTSTAMP:20210228T004850
CREATED:20210129T033648Z
LAST-MODIFIED:20210209T041633Z
UID:862-1618678800-1618801200@www.fnqgolf.com.au
SUMMARY:Mareeba Golf Club Open
DESCRIPTION:
URL:https://www.fnqgolf.com.au/event/mareeba-golf-club-open/
LOCATION:Mareeba Golf Club
CATEGORIES:Open Event
ATTACH;FMTTYPE=image/png:https://www.fnqgolf.com.au/wp-content/uploads/2020/01/Mareeba.png
ORGANIZER;CN="Mareeba%20Golf%20Club":MAILTO:manager@mareebagolfclub.com.au
END:VEVENT
BEGIN:VEVENT
DTSTART;TZID=Australia/Brisbane:20210501T063000
DTEND;TZID=Australia/Brisbane:20210502T170000
DTSTAMP:20210228T004850
CREATED:20210201T044056Z
LAST-MODIFIED:20210216T003255Z
UID:882-1619850600-1619974800@www.fnqgolf.com.au
SUMMARY:Cairns Open
DESCRIPTION:
URL:https://www.fnqgolf.com.au/event/cairns-open/
LOCATION:QLD 4872
CATEGORIES:Classic Event
ATTACH;FMTTYPE=image/jpeg:https://www.fnqgolf.com.au/wp-content/uploads/2020/05/Cairns-Open.jpg
END:VEVENT
BEGIN:VEVENT
DTSTART;TZID=Australia/Brisbane:20210501T070000
DTEND;TZID=Australia/Brisbane:20210502T170000
DTSTAMP:20210228T004850
CREATED:20210129T034545Z
LAST-MODIFIED:20210209T015415Z
UID:864-1619852400-1619974800@www.fnqgolf.com.au
SUMMARY:Carpentaria Goodline Open
DESCRIPTION:
URL:https://www.fnqgolf.com.au/event/carpentaria-goodline-open/
LOCATION:QLD 4872
CATEGORIES:Open Event
ATTACH;FMTTYPE=image/png:https://www.fnqgolf.com.au/wp-content/uploads/2020/05/Weipa-Golf-Club-Logo.png
END:VEVENT
BEGIN:VEVENT
DTSTART;TZID=Australia/Brisbane:20210508T070000
DTEND;TZID=Australia/Brisbane:20210509T170000
DTSTAMP:20210228T004850
CREATED:20210201T052604Z
LAST-MODIFIED:20210201T053648Z
UID:889-1620457200-1620579600@www.fnqgolf.com.au
SUMMARY:Harvey Norman Classic Innisfail
DESCRIPTION: 
URL:https://www.fnqgolf.com.au/event/harvey-norman-classic-innisfail/
LOCATION:QLD 4872
CATEGORIES:Classic Event
ATTACH;FMTTYPE=image/png:https://www.fnqgolf.com.au/wp-content/uploads/2020/05/Innisfail-Golf-Club-1.png
END:VEVENT
BEGIN:VEVENT
DTSTART;TZID=Australia/Brisbane:20210515T070000
DTEND;TZID=Australia/Brisbane:20210516T170000
DTSTAMP:20210228T004850
CREATED:20210209T032313Z
LAST-MODIFIED:20210209T041307Z
UID:461-1621062000-1621184400@www.fnqgolf.com.au
SUMMARY:Cardwell Open
DESCRIPTION:
URL:https://www.fnqgolf.com.au/event/cardwell-open/
LOCATION:QLD 4872
CATEGORIES:Open Event
ATTACH;FMTTYPE=image/png:https://www.fnqgolf.com.au/wp-content/uploads/2020/05/Cardwell-Golf-Club.png
END:VEVENT
BEGIN:VEVENT
DTSTART;TZID=Australia/Brisbane:20210522T070000
DTEND;TZID=Australia/Brisbane:20210523T170000
DTSTAMP:20210228T004850
CREATED:20210201T054547Z
LAST-MODIFIED:20210209T015222Z
UID:902-1621666800-1621789200@www.fnqgolf.com.au
SUMMARY:Georgetown Golf Club Open
DESCRIPTION:
URL:https://www.fnqgolf.com.au/event/georgetown-golf-club-open/
LOCATION:QLD 4872
CATEGORIES:Open Event
ATTACH;FMTTYPE=image/png:https://www.fnqgolf.com.au/wp-content/uploads/2020/05/Georgetown-Golf-Club-Inc-1.png
END:VEVENT
BEGIN:VEVENT
DTSTART;TZID=Australia/Brisbane:20210522T070000
DTEND;TZID=Australia/Brisbane:20210523T170000
DTSTAMP:20210228T004850
CREATED:20210201T055543Z
LAST-MODIFIED:20210209T015127Z
UID:907-1621666800-1621789200@www.fnqgolf.com.au
SUMMARY:Cairns Hardware Classic
DESCRIPTION:
URL:https://www.fnqgolf.com.au/event/cairns-hardware-classic/
LOCATION:QLD 4872
CATEGORIES:Classic Event
ATTACH;FMTTYPE=image/png:https://www.fnqgolf.com.au/wp-content/uploads/2020/05/cairns_main_logo2.png
END:VEVENT
BEGIN:VEVENT
DTSTART;TZID=Australia/Brisbane:20210529T070000
DTEND;TZID=Australia/Brisbane:20210530T170000
DTSTAMP:20210228T004850
CREATED:20210201T055822Z
LAST-MODIFIED:20210209T015024Z
UID:909-1622271600-1622394000@www.fnqgolf.com.au
SUMMARY:Half Moon Bay Open
DESCRIPTION:
URL:https://www.fnqgolf.com.au/event/half-moon-bay-open/
LOCATION:QLD 4872
CATEGORIES:Open Event
ATTACH;FMTTYPE=image/png:https://www.fnqgolf.com.au/wp-content/uploads/2020/05/Half-Moon-Bay-Golf-Club-Logo.png
END:VEVENT
BEGIN:VEVENT
DTSTART;TZID=Australia/Brisbane:20210606T070000
DTEND;TZID=Australia/Brisbane:20210606T170000
DTSTAMP:20210228T004850
CREATED:20210209T044243Z
LAST-MODIFIED:20210209T041712Z
UID:546-1622962800-1622998800@www.fnqgolf.com.au
SUMMARY:Atherton Curlew Golf Tournament
DESCRIPTION:
URL:https://www.fnqgolf.com.au/event/atherton-curlew-golf-tournament/
LOCATION:QLD 4872
CATEGORIES:Junior Open Event
ATTACH;FMTTYPE=image/png:https://www.fnqgolf.com.au/wp-content/uploads/2020/05/Atherton-Golf-Club.png
END:VEVENT
BEGIN:VEVENT
DTSTART;TZID=Australia/Brisbane:20210703T070000
DTEND;TZID=Australia/Brisbane:20210704T170000
DTSTAMP:20210228T004850
CREATED:20210208T203700Z
LAST-MODIFIED:20210209T041229Z
UID:356-1625295600-1625418000@www.fnqgolf.com.au
SUMMARY:Ravenshoe Millstream Country Club Open
DESCRIPTION:
URL:https://www.fnqgolf.com.au/event/ravenshoe-millstream-country-club-open/
LOCATION:Ravenshoe Country Club
CATEGORIES:Open Event
ATTACH;FMTTYPE=image/png:https://www.fnqgolf.com.au/wp-content/uploads/2020/05/Ravenshoe-Millstream-Country-Club.png
END:VEVENT
BEGIN:VEVENT
DTSTART;TZID=Australia/Brisbane:20210708T080000
DTEND;TZID=Australia/Brisbane:20210708T170000
DTSTAMP:20210228T004850
CREATED:20210208T210400Z
LAST-MODIFIED:20210209T041219Z
UID:365-1625731200-1625763600@www.fnqgolf.com.au
SUMMARY:Half Moon Bay Junior Open
DESCRIPTION:
URL:https://www.fnqgolf.com.au/event/half-moon-bay-junior-open/
LOCATION:QLD 4872
CATEGORIES:Junior Open Event
ATTACH;FMTTYPE=image/png:https://www.fnqgolf.com.au/wp-content/uploads/2020/05/Half-Moon-Bay-Golf-Club-Logo.png
END:VEVENT
BEGIN:VEVENT
DTSTART;TZID=Australia/Brisbane:20210709T070000
DTEND;TZID=Australia/Brisbane:20210709T170000
DTSTAMP:20210228T004850
CREATED:20210209T004615Z
LAST-MODIFIED:20210209T041724Z
UID:917-1625814000-1625850000@www.fnqgolf.com.au
SUMMARY:Cairns Junior Open
DESCRIPTION:
URL:https://www.fnqgolf.com.au/event/cairns-junior-open/
LOCATION:QLD 4872
CATEGORIES:Junior Open Event
ATTACH;FMTTYPE=image/png:https://www.fnqgolf.com.au/wp-content/uploads/2020/05/cairns_main_logo2.png
END:VEVENT
BEGIN:VEVENT
DTSTART;TZID=Australia/Brisbane:20210710T070000
DTEND;TZID=Australia/Brisbane:20210711T170000
DTSTAMP:20210228T004850
CREATED:20210208T211930Z
LAST-MODIFIED:20210209T041157Z
UID:369-1625900400-1626022800@www.fnqgolf.com.au
SUMMARY:FNQGA Open Championship
DESCRIPTION:
URL:https://www.fnqgolf.com.au/event/fnqga-open-championship/
LOCATION:QLD 4872
CATEGORIES:FNQGA Event,Open Event
ATTACH;FMTTYPE=image/png:https://www.fnqgolf.com.au/wp-content/uploads/2020/05/Far-North-QUeensland-Golf-Association-Logo.png
END:VEVENT
BEGIN:VEVENT
DTSTART;TZID=Australia/Brisbane:20210717T070000
DTEND;TZID=Australia/Brisbane:20210718T170000
DTSTAMP:20210228T004850
CREATED:20210208T212209Z
LAST-MODIFIED:20210209T041144Z
UID:372-1626505200-1626627600@www.fnqgolf.com.au
SUMMARY:Mossman Open
DESCRIPTION:
URL:https://www.fnqgolf.com.au/event/mossman-open/
LOCATION:QLD 4872
CATEGORIES:Open Event
ATTACH;FMTTYPE=image/png:https://www.fnqgolf.com.au/wp-content/uploads/2020/05/Mossman-Golf.png
END:VEVENT
BEGIN:VEVENT
DTSTART;TZID=Australia/Brisbane:20210724T070000
DTEND;TZID=Australia/Brisbane:20210725T170000
DTSTAMP:20210228T004850
CREATED:20210208T212523Z
LAST-MODIFIED:20210209T041135Z
UID:375-1627110000-1627232400@www.fnqgolf.com.au
SUMMARY:El Arish Open Championship
DESCRIPTION:
URL:https://www.fnqgolf.com.au/event/el-arish-open-championship/
LOCATION:QLD 4872
CATEGORIES:Open Event
ATTACH;FMTTYPE=image/png:https://www.fnqgolf.com.au/wp-content/uploads/2020/05/El-Arish-Golf-Club.png
END:VEVENT
BEGIN:VEVENT
DTSTART;TZID=Australia/Brisbane:20210730T070000
DTEND;TZID=Australia/Brisbane:20210801T170000
DTSTAMP:20210228T004850
CREATED:20210208T212735Z
LAST-MODIFIED:20210209T041124Z
UID:378-1627628400-1627837200@www.fnqgolf.com.au
SUMMARY:City of Cairns Open
DESCRIPTION:
URL:https://www.fnqgolf.com.au/event/city-of-cairns-open/
LOCATION:QLD 4872
CATEGORIES:Open Event
ATTACH;FMTTYPE=image/jpeg:https://www.fnqgolf.com.au/wp-content/uploads/2020/07/City-Of-Cairns-Header.jpg
END:VEVENT
BEGIN:VEVENT
DTSTART;TZID=Australia/Brisbane:20210807T070000
DTEND;TZID=Australia/Brisbane:20210808T170000
DTSTAMP:20210228T004850
CREATED:20210208T213311Z
LAST-MODIFIED:20210209T041113Z
UID:383-1628319600-1628442000@www.fnqgolf.com.au
SUMMARY:Atherton Golf Club Open
DESCRIPTION:
URL:https://www.fnqgolf.com.au/event/atherton-golf-club-open/
LOCATION:QLD 4872
CATEGORIES:Open Event
ATTACH;FMTTYPE=image/png:https://www.fnqgolf.com.au/wp-content/uploads/2020/05/Atherton-Golf-Club.png
END:VEVENT
BEGIN:VEVENT
DTSTART;TZID=Australia/Brisbane:20210814T070000
DTEND;TZID=Australia/Brisbane:20210815T170000
DTSTAMP:20210228T004850
CREATED:20210208T213601Z
LAST-MODIFIED:20210209T041102Z
UID:386-1628924400-1629046800@www.fnqgolf.com.au
SUMMARY:Gordonvale Open
DESCRIPTION:
URL:https://www.fnqgolf.com.au/event/gordonvale-open/
LOCATION:QLD 4872
CATEGORIES:Open Event
ATTACH;FMTTYPE=image/png:https://www.fnqgolf.com.au/wp-content/uploads/2020/05/Gordonvale-Golf-Club-Logo.png
END:VEVENT
BEGIN:VEVENT
DTSTART;TZID=Australia/Brisbane:20210821T070000
DTEND;TZID=Australia/Brisbane:20210822T170000
DTSTAMP:20210228T004850
CREATED:20210208T213814Z
LAST-MODIFIED:20210209T041049Z
UID:389-1629529200-1629651600@www.fnqgolf.com.au
SUMMARY:Babinda Open
DESCRIPTION:
URL:https://www.fnqgolf.com.au/event/babinda-open/
LOCATION:QLD 4872
CATEGORIES:Open Event
ATTACH;FMTTYPE=image/png:https://www.fnqgolf.com.au/wp-content/uploads/2020/05/Babinda-Golf-Club-Logo.png
END:VEVENT
BEGIN:VEVENT
DTSTART;TZID=Australia/Brisbane:20210821T070000
DTEND;TZID=Australia/Brisbane:20210822T170000
DTSTAMP:20210228T004850
CREATED:20210208T232200Z
LAST-MODIFIED:20210209T041036Z
UID:700-1629529200-1629651600@www.fnqgolf.com.au
SUMMARY:Innisfail Golf Club Junior Open
DESCRIPTION:
URL:https://www.fnqgolf.com.au/event/innisfail-golf-club-junior-open/
LOCATION:QLD 4872
CATEGORIES:Junior Open Event
ATTACH;FMTTYPE=image/png:https://www.fnqgolf.com.au/wp-content/uploads/2020/05/Innisfail-Golf-Club-1.png
END:VEVENT
BEGIN:VEVENT
DTSTART;TZID=Australia/Brisbane:20210828T070000
DTEND;TZID=Australia/Brisbane:20210829T170000
DTSTAMP:20210228T004850
CREATED:20210208T214000Z
LAST-MODIFIED:20210209T040954Z
UID:392-1630134000-1630256400@www.fnqgolf.com.au
SUMMARY:Cooktown Open
DESCRIPTION:
URL:https://www.fnqgolf.com.au/event/2020-cooktown-open-29th-30th-aug/
LOCATION:QLD 4872
CATEGORIES:Open Event
ATTACH;FMTTYPE=image/png:https://www.fnqgolf.com.au/wp-content/uploads/2020/05/Cooktown-Golf-Club.png
END:VEVENT
BEGIN:VEVENT
DTSTART;TZID=Australia/Brisbane:20210904T070000
DTEND;TZID=Australia/Brisbane:20210905T170000
DTSTAMP:20210228T004850
CREATED:20210208T214200Z
LAST-MODIFIED:20210209T033610Z
UID:395-1630738800-1630861200@www.fnqgolf.com.au
SUMMARY:Vandeleur & Todd Innisfail Open
DESCRIPTION:Vandeleur & Todd Solicitors Innisfail Open 2020
URL:https://www.fnqgolf.com.au/event/vandeleur-and-todd-innisfail-open-5th-6th-sept-2020/
LOCATION:QLD 4872
CATEGORIES:Open Event
ATTACH;FMTTYPE=image/png:https://www.fnqgolf.com.au/wp-content/uploads/2020/05/Innisfail-Golf-Club-1.png
END:VEVENT
BEGIN:VEVENT
DTSTART;TZID=Australia/Brisbane:20210911T070000
DTEND;TZID=Australia/Brisbane:20210912T170000
DTSTAMP:20210228T004850
CREATED:20210208T214400Z
LAST-MODIFIED:20210209T034059Z
UID:398-1631343600-1631466000@www.fnqgolf.com.au
SUMMARY:Tully Golf Open 2020
DESCRIPTION:
URL:https://www.fnqgolf.com.au/event/tully-open/
LOCATION:QLD 4872
CATEGORIES:Open Event
ATTACH;FMTTYPE=image/png:https://www.fnqgolf.com.au/wp-content/uploads/2020/05/Tully-Junior-Golf.png
END:VEVENT
BEGIN:VEVENT
DTSTART;TZID=Australia/Brisbane:20210912T070000
DTEND;TZID=Australia/Brisbane:20210912T170000
DTSTAMP:20210228T004850
CREATED:20210208T214500Z
LAST-MODIFIED:20210209T034929Z
UID:401-1631430000-1631466000@www.fnqgolf.com.au
SUMMARY:Mossman Junior Open
DESCRIPTION:
URL:https://www.fnqgolf.com.au/event/mossman-junior-open/
LOCATION:QLD 4872
CATEGORIES:Junior Open Event
ATTACH;FMTTYPE=image/png:https://www.fnqgolf.com.au/wp-content/uploads/2020/05/Mossman-Golf.png
END:VEVENT
BEGIN:VEVENT
DTSTART;TZID=Australia/Brisbane:20210918T070000
DTEND;TZID=Australia/Brisbane:20210919T170000
DTSTAMP:20210228T004850
CREATED:20210208T214700Z
LAST-MODIFIED:20210209T035123Z
UID:404-1631948400-1632070800@www.fnqgolf.com.au
SUMMARY:Millaa Millaa Open
DESCRIPTION:
URL:https://www.fnqgolf.com.au/event/millaa-millaa-open/
LOCATION:QLD 4872
CATEGORIES:Open Event
ATTACH;FMTTYPE=image/png:https://www.fnqgolf.com.au/wp-content/uploads/2020/05/Millaa-Millaa-Golf-Club.png
END:VEVENT
BEGIN:VEVENT
DTSTART;TZID=Australia/Brisbane:20211003T070000
DTEND;TZID=Australia/Brisbane:20211003T170000
DTSTAMP:20210228T004850
CREATED:20210208T215200Z
LAST-MODIFIED:20210209T035444Z
UID:414-1633244400-1633280400@www.fnqgolf.com.au
SUMMARY:FNQ Champion of Champions
DESCRIPTION:
URL:https://www.fnqgolf.com.au/event/fnq-champion-of-champions/
LOCATION:QLD 4872
CATEGORIES:Champions Event
ATTACH;FMTTYPE=image/png:https://www.fnqgolf.com.au/wp-content/uploads/2020/05/Far-North-QUeensland-Golf-Association-Logo.png
END:VEVENT
BEGIN:VEVENT
DTSTART;TZID=Australia/Brisbane:20211016T070000
DTEND;TZID=Australia/Brisbane:20211017T170000
DTSTAMP:20210228T004850
CREATED:20210208T230500Z
LAST-MODIFIED:20210209T035722Z
UID:420-1634367600-1634490000@www.fnqgolf.com.au
SUMMARY:El Arish Southern Classic
DESCRIPTION:
URL:https://www.fnqgolf.com.au/event/el-arish-southern-classic/
LOCATION:QLD 4872
CATEGORIES:Classic Event
ATTACH;FMTTYPE=image/png:https://www.fnqgolf.com.au/wp-content/uploads/2020/05/El-Arish-Golf-Club.png
END:VEVENT
BEGIN:VEVENT
DTSTART;TZID=Australia/Brisbane:20211023T070000
DTEND;TZID=Australia/Brisbane:20211023T170000
DTSTAMP:20210228T004850
CREATED:20210208T230600Z
LAST-MODIFIED:20210209T040021Z
UID:423-1634972400-1635008400@www.fnqgolf.com.au
SUMMARY:Ravenshoe Junior Golf Open
DESCRIPTION:
URL:https://www.fnqgolf.com.au/event/ravenshoe-junior-golf-open/
LOCATION:QLD 4872
CATEGORIES:Junior Open Event
ATTACH;FMTTYPE=image/png:https://www.fnqgolf.com.au/wp-content/uploads/2020/05/Ravenshoe-Millstream-Country-Club.png
END:VEVENT
END:VCALENDAR